BEGIN:VCALENDAR
VERSION:2.0
PRODID:-//Goulburn Australia - ECPv6.15.20//NONSGML v1.0//EN
CALSCALE:GREGORIAN
METHOD:PUBLISH
X-WR-CALNAME:Goulburn Australia
X-ORIGINAL-URL:https://www.goulburnaustralia.com.au
X-WR-CALDESC:Events for Goulburn Australia
REFRESH-INTERVAL;VALUE=DURATION:PT1H
X-Robots-Tag:noindex
X-PUBLISHED-TTL:PT1H
BEGIN:VTIMEZONE
TZID:Australia/Sydney
BEGIN:STANDARD
TZOFFSETFROM:+1100
TZOFFSETTO:+1000
TZNAME:AEST
DTSTART:20250405T160000
END:STANDARD
BEGIN:DAYLIGHT
TZOFFSETFROM:+1000
TZOFFSETTO:+1100
TZNAME:AEDT
DTSTART:20251004T160000
END:DAYLIGHT
BEGIN:STANDARD
TZOFFSETFROM:+1100
TZOFFSETTO:+1000
TZNAME:AEST
DTSTART:20260404T160000
END:STANDARD
BEGIN:DAYLIGHT
TZOFFSETFROM:+1000
TZOFFSETTO:+1100
TZNAME:AEDT
DTSTART:20261003T160000
END:DAYLIGHT
BEGIN:STANDARD
TZOFFSETFROM:+1100
TZOFFSETTO:+1000
TZNAME:AEST
DTSTART:20270403T160000
END:STANDARD
BEGIN:DAYLIGHT
TZOFFSETFROM:+1000
TZOFFSETTO:+1100
TZNAME:AEDT
DTSTART:20271002T160000
END:DAYLIGHT
END:VTIMEZONE
BEGIN:VEVENT
DTSTART;TZID=Australia/Sydney:20260426T100000
DTEND;TZID=Australia/Sydney:20260426T100000
DTSTAMP:20260425T204702
CREATED:20250906T054432Z
LAST-MODIFIED:20250910T223953Z
UID:10009626-1777197600-1777197600@www.goulburnaustralia.com.au
SUMMARY:ScrapKat's Craft Group
DESCRIPTION:What started as a crop day for scrapbooking and cardmaking has now turned into a day for all crafters. The 4th Sunday of every month we hold our craft day at the CWA rooms in Montague Street. \nEveryone is welcome\, scrapbookers\, card makers\, any other paper crafters\, knitters\, beadwork\, macrame etc.So come along for a fun day of crafting and company. Tea and coffee supplied \nCost is $10.
URL:https://www.goulburnaustralia.com.au/event/scrapkats-craft-group/2026-04-26/
CATEGORIES:Classes, Lessons, Workshops and Talks
ATTACH;FMTTYPE=image/jpeg:https://www.goulburnaustralia.com.au/wp-content/uploads/2025/09/IMG_0161-scaled.jpg
END:VEVENT
BEGIN:VEVENT
DTSTART;TZID=Australia/Sydney:20260524T100000
DTEND;TZID=Australia/Sydney:20260524T100000
DTSTAMP:20260425T204702
CREATED:20250906T054432Z
LAST-MODIFIED:20250910T223953Z
UID:10009627-1779616800-1779616800@www.goulburnaustralia.com.au
SUMMARY:ScrapKat's Craft Group
DESCRIPTION:What started as a crop day for scrapbooking and cardmaking has now turned into a day for all crafters. The 4th Sunday of every month we hold our craft day at the CWA rooms in Montague Street. \nEveryone is welcome\, scrapbookers\, card makers\, any other paper crafters\, knitters\, beadwork\, macrame etc.So come along for a fun day of crafting and company. Tea and coffee supplied \nCost is $10.
URL:https://www.goulburnaustralia.com.au/event/scrapkats-craft-group/2026-05-24/
CATEGORIES:Classes, Lessons, Workshops and Talks
ATTACH;FMTTYPE=image/jpeg:https://www.goulburnaustralia.com.au/wp-content/uploads/2025/09/IMG_0161-scaled.jpg
END:VEVENT
BEGIN:VEVENT
DTSTART;TZID=Australia/Sydney:20260628T100000
DTEND;TZID=Australia/Sydney:20260628T100000
DTSTAMP:20260425T204702
CREATED:20250906T054432Z
LAST-MODIFIED:20250910T223953Z
UID:10009628-1782640800-1782640800@www.goulburnaustralia.com.au
SUMMARY:ScrapKat's Craft Group
DESCRIPTION:What started as a crop day for scrapbooking and cardmaking has now turned into a day for all crafters. The 4th Sunday of every month we hold our craft day at the CWA rooms in Montague Street. \nEveryone is welcome\, scrapbookers\, card makers\, any other paper crafters\, knitters\, beadwork\, macrame etc.So come along for a fun day of crafting and company. Tea and coffee supplied \nCost is $10.
URL:https://www.goulburnaustralia.com.au/event/scrapkats-craft-group/2026-06-28/
CATEGORIES:Classes, Lessons, Workshops and Talks
ATTACH;FMTTYPE=image/jpeg:https://www.goulburnaustralia.com.au/wp-content/uploads/2025/09/IMG_0161-scaled.jpg
END:VEVENT
BEGIN:VEVENT
DTSTART;TZID=Australia/Sydney:20260726T100000
DTEND;TZID=Australia/Sydney:20260726T100000
DTSTAMP:20260425T204702
CREATED:20250906T054432Z
LAST-MODIFIED:20250910T223953Z
UID:10009629-1785060000-1785060000@www.goulburnaustralia.com.au
SUMMARY:ScrapKat's Craft Group
DESCRIPTION:What started as a crop day for scrapbooking and cardmaking has now turned into a day for all crafters. The 4th Sunday of every month we hold our craft day at the CWA rooms in Montague Street. \nEveryone is welcome\, scrapbookers\, card makers\, any other paper crafters\, knitters\, beadwork\, macrame etc.So come along for a fun day of crafting and company. Tea and coffee supplied \nCost is $10.
URL:https://www.goulburnaustralia.com.au/event/scrapkats-craft-group/2026-07-26/
CATEGORIES:Classes, Lessons, Workshops and Talks
ATTACH;FMTTYPE=image/jpeg:https://www.goulburnaustralia.com.au/wp-content/uploads/2025/09/IMG_0161-scaled.jpg
END:VEVENT
BEGIN:VEVENT
DTSTART;TZID=Australia/Sydney:20260823T100000
DTEND;TZID=Australia/Sydney:20260823T100000
DTSTAMP:20260425T204702
CREATED:20250906T054432Z
LAST-MODIFIED:20250910T223953Z
UID:10009630-1787479200-1787479200@www.goulburnaustralia.com.au
SUMMARY:ScrapKat's Craft Group
DESCRIPTION:What started as a crop day for scrapbooking and cardmaking has now turned into a day for all crafters. The 4th Sunday of every month we hold our craft day at the CWA rooms in Montague Street. \nEveryone is welcome\, scrapbookers\, card makers\, any other paper crafters\, knitters\, beadwork\, macrame etc.So come along for a fun day of crafting and company. Tea and coffee supplied \nCost is $10.
URL:https://www.goulburnaustralia.com.au/event/scrapkats-craft-group/2026-08-23/
CATEGORIES:Classes, Lessons, Workshops and Talks
ATTACH;FMTTYPE=image/jpeg:https://www.goulburnaustralia.com.au/wp-content/uploads/2025/09/IMG_0161-scaled.jpg
END:VEVENT
BEGIN:VEVENT
DTSTART;TZID=Australia/Sydney:20260927T100000
DTEND;TZID=Australia/Sydney:20260927T100000
DTSTAMP:20260425T204702
CREATED:20250906T054432Z
LAST-MODIFIED:20250910T223953Z
UID:10009631-1790503200-1790503200@www.goulburnaustralia.com.au
SUMMARY:ScrapKat's Craft Group
DESCRIPTION:What started as a crop day for scrapbooking and cardmaking has now turned into a day for all crafters. The 4th Sunday of every month we hold our craft day at the CWA rooms in Montague Street. \nEveryone is welcome\, scrapbookers\, card makers\, any other paper crafters\, knitters\, beadwork\, macrame etc.So come along for a fun day of crafting and company. Tea and coffee supplied \nCost is $10.
URL:https://www.goulburnaustralia.com.au/event/scrapkats-craft-group/2026-09-27/
CATEGORIES:Classes, Lessons, Workshops and Talks
ATTACH;FMTTYPE=image/jpeg:https://www.goulburnaustralia.com.au/wp-content/uploads/2025/09/IMG_0161-scaled.jpg
END:VEVENT
BEGIN:VEVENT
DTSTART;TZID=Australia/Sydney:20261025T100000
DTEND;TZID=Australia/Sydney:20261025T100000
DTSTAMP:20260425T204702
CREATED:20250906T054432Z
LAST-MODIFIED:20250910T223953Z
UID:10009632-1792922400-1792922400@www.goulburnaustralia.com.au
SUMMARY:ScrapKat's Craft Group
DESCRIPTION:What started as a crop day for scrapbooking and cardmaking has now turned into a day for all crafters. The 4th Sunday of every month we hold our craft day at the CWA rooms in Montague Street. \nEveryone is welcome\, scrapbookers\, card makers\, any other paper crafters\, knitters\, beadwork\, macrame etc.So come along for a fun day of crafting and company. Tea and coffee supplied \nCost is $10.
URL:https://www.goulburnaustralia.com.au/event/scrapkats-craft-group/2026-10-25/
CATEGORIES:Classes, Lessons, Workshops and Talks
ATTACH;FMTTYPE=image/jpeg:https://www.goulburnaustralia.com.au/wp-content/uploads/2025/09/IMG_0161-scaled.jpg
END:VEVENT
BEGIN:VEVENT
DTSTART;TZID=Australia/Sydney:20261122T100000
DTEND;TZID=Australia/Sydney:20261122T100000
DTSTAMP:20260425T204702
CREATED:20250906T054432Z
LAST-MODIFIED:20250910T223953Z
UID:10009633-1795341600-1795341600@www.goulburnaustralia.com.au
SUMMARY:ScrapKat's Craft Group
DESCRIPTION:What started as a crop day for scrapbooking and cardmaking has now turned into a day for all crafters. The 4th Sunday of every month we hold our craft day at the CWA rooms in Montague Street. \nEveryone is welcome\, scrapbookers\, card makers\, any other paper crafters\, knitters\, beadwork\, macrame etc.So come along for a fun day of crafting and company. Tea and coffee supplied \nCost is $10.
URL:https://www.goulburnaustralia.com.au/event/scrapkats-craft-group/2026-11-22/
CATEGORIES:Classes, Lessons, Workshops and Talks
ATTACH;FMTTYPE=image/jpeg:https://www.goulburnaustralia.com.au/wp-content/uploads/2025/09/IMG_0161-scaled.jpg
END:VEVENT
END:VCALENDAR