BEGIN:VCALENDAR
VERSION:2.0
PRODID:-//Goulburn Australia - ECPv6.15.20//NONSGML v1.0//EN
CALSCALE:GREGORIAN
METHOD:PUBLISH
X-WR-CALNAME:Goulburn Australia
X-ORIGINAL-URL:https://www.goulburnaustralia.com.au
X-WR-CALDESC:Events for Goulburn Australia
REFRESH-INTERVAL;VALUE=DURATION:PT1H
X-Robots-Tag:noindex
X-PUBLISHED-TTL:PT1H
BEGIN:VTIMEZONE
TZID:Australia/Sydney
BEGIN:STANDARD
TZOFFSETFROM:+1100
TZOFFSETTO:+1000
TZNAME:AEST
DTSTART:20250405T160000
END:STANDARD
BEGIN:DAYLIGHT
TZOFFSETFROM:+1000
TZOFFSETTO:+1100
TZNAME:AEDT
DTSTART:20251004T160000
END:DAYLIGHT
BEGIN:STANDARD
TZOFFSETFROM:+1100
TZOFFSETTO:+1000
TZNAME:AEST
DTSTART:20260404T160000
END:STANDARD
BEGIN:DAYLIGHT
TZOFFSETFROM:+1000
TZOFFSETTO:+1100
TZNAME:AEDT
DTSTART:20261003T160000
END:DAYLIGHT
BEGIN:STANDARD
TZOFFSETFROM:+1100
TZOFFSETTO:+1000
TZNAME:AEST
DTSTART:20270403T160000
END:STANDARD
BEGIN:DAYLIGHT
TZOFFSETFROM:+1000
TZOFFSETTO:+1100
TZNAME:AEDT
DTSTART:20271002T160000
END:DAYLIGHT
END:VTIMEZONE
BEGIN:VEVENT
DTSTART;TZID=Australia/Sydney:20260427T120000
DTEND;TZID=Australia/Sydney:20260427T170000
DTSTAMP:20260425T222005
CREATED:20220525T000727Z
LAST-MODIFIED:20260424T011007Z
UID:10010458-1777291200-1777309200@www.goulburnaustralia.com.au
SUMMARY:Goulburn Thoroughbred Racing
DESCRIPTION:Goulburn Race Club races 20 times throughout the year. Each day features full TAB\, bar & canteen facilities\, as well as onsite bookmakers. \nThe race program consists of 7-8 races\, keep an eye on our social media pages for confirmation of start times. \nGoulburn Race Club provides the perfect atmosphere to watch the best thoroughbred racing in country New South Wales. \nRace times and dates are subject to change so please contact Goulburn Race Club to confirm each date & race time if you are looking to attend.
URL:https://www.goulburnaustralia.com.au/event/goulburn-thoroughbred-racing/2026-04-27/
CATEGORIES:Sporting Events
ATTACH;FMTTYPE=image/jpeg:https://www.goulburnaustralia.com.au/wp-content/uploads/2023/02/BRADLEYS-Vee-Eight-5.jpg
END:VEVENT
BEGIN:VEVENT
DTSTART;TZID=Australia/Sydney:20260507T120000
DTEND;TZID=Australia/Sydney:20260507T170000
DTSTAMP:20260425T222005
CREATED:20220525T000727Z
LAST-MODIFIED:20260424T011007Z
UID:10010225-1778155200-1778173200@www.goulburnaustralia.com.au
SUMMARY:Goulburn Thoroughbred Racing
DESCRIPTION:Goulburn Race Club races 20 times throughout the year. Each day features full TAB\, bar & canteen facilities\, as well as onsite bookmakers. \nThe race program consists of 7-8 races\, keep an eye on our social media pages for confirmation of start times. \nGoulburn Race Club provides the perfect atmosphere to watch the best thoroughbred racing in country New South Wales. \nRace times and dates are subject to change so please contact Goulburn Race Club to confirm each date & race time if you are looking to attend.
URL:https://www.goulburnaustralia.com.au/event/goulburn-thoroughbred-racing/2026-05-07/
CATEGORIES:Sporting Events
ATTACH;FMTTYPE=image/jpeg:https://www.goulburnaustralia.com.au/wp-content/uploads/2023/02/BRADLEYS-Vee-Eight-5.jpg
END:VEVENT
BEGIN:VEVENT
DTSTART;TZID=Australia/Sydney:20260529T120000
DTEND;TZID=Australia/Sydney:20260529T170000
DTSTAMP:20260425T222005
CREATED:20220525T000727Z
LAST-MODIFIED:20260424T011007Z
UID:10010226-1780056000-1780074000@www.goulburnaustralia.com.au
SUMMARY:Goulburn Thoroughbred Racing
DESCRIPTION:Goulburn Race Club races 20 times throughout the year. Each day features full TAB\, bar & canteen facilities\, as well as onsite bookmakers. \nThe race program consists of 7-8 races\, keep an eye on our social media pages for confirmation of start times. \nGoulburn Race Club provides the perfect atmosphere to watch the best thoroughbred racing in country New South Wales. \nRace times and dates are subject to change so please contact Goulburn Race Club to confirm each date & race time if you are looking to attend.
URL:https://www.goulburnaustralia.com.au/event/goulburn-thoroughbred-racing/2026-05-29/
CATEGORIES:Sporting Events
ATTACH;FMTTYPE=image/jpeg:https://www.goulburnaustralia.com.au/wp-content/uploads/2023/02/BRADLEYS-Vee-Eight-5.jpg
END:VEVENT
BEGIN:VEVENT
DTSTART;TZID=Australia/Sydney:20260622T120000
DTEND;TZID=Australia/Sydney:20260622T170000
DTSTAMP:20260425T222005
CREATED:20220525T000727Z
LAST-MODIFIED:20260424T011007Z
UID:10010227-1782129600-1782147600@www.goulburnaustralia.com.au
SUMMARY:Goulburn Thoroughbred Racing
DESCRIPTION:Goulburn Race Club races 20 times throughout the year. Each day features full TAB\, bar & canteen facilities\, as well as onsite bookmakers. \nThe race program consists of 7-8 races\, keep an eye on our social media pages for confirmation of start times. \nGoulburn Race Club provides the perfect atmosphere to watch the best thoroughbred racing in country New South Wales. \nRace times and dates are subject to change so please contact Goulburn Race Club to confirm each date & race time if you are looking to attend.
URL:https://www.goulburnaustralia.com.au/event/goulburn-thoroughbred-racing/2026-06-22/
CATEGORIES:Sporting Events
ATTACH;FMTTYPE=image/jpeg:https://www.goulburnaustralia.com.au/wp-content/uploads/2023/02/BRADLEYS-Vee-Eight-5.jpg
END:VEVENT
BEGIN:VEVENT
DTSTART;TZID=Australia/Sydney:20260703T120000
DTEND;TZID=Australia/Sydney:20260703T170000
DTSTAMP:20260425T222005
CREATED:20220525T000727Z
LAST-MODIFIED:20260424T011007Z
UID:10010731-1783080000-1783098000@www.goulburnaustralia.com.au
SUMMARY:Goulburn Thoroughbred Racing
DESCRIPTION:Goulburn Race Club races 20 times throughout the year. Each day features full TAB\, bar & canteen facilities\, as well as onsite bookmakers. \nThe race program consists of 7-8 races\, keep an eye on our social media pages for confirmation of start times. \nGoulburn Race Club provides the perfect atmosphere to watch the best thoroughbred racing in country New South Wales. \nRace times and dates are subject to change so please contact Goulburn Race Club to confirm each date & race time if you are looking to attend.
URL:https://www.goulburnaustralia.com.au/event/goulburn-thoroughbred-racing/2026-07-03/
CATEGORIES:Sporting Events
ATTACH;FMTTYPE=image/jpeg:https://www.goulburnaustralia.com.au/wp-content/uploads/2023/02/BRADLEYS-Vee-Eight-5.jpg
END:VEVENT
BEGIN:VEVENT
DTSTART;TZID=Australia/Sydney:20260717T120000
DTEND;TZID=Australia/Sydney:20260717T170000
DTSTAMP:20260425T222005
CREATED:20220525T000727Z
LAST-MODIFIED:20260424T011007Z
UID:10010732-1784289600-1784307600@www.goulburnaustralia.com.au
SUMMARY:Goulburn Thoroughbred Racing
DESCRIPTION:Goulburn Race Club races 20 times throughout the year. Each day features full TAB\, bar & canteen facilities\, as well as onsite bookmakers. \nThe race program consists of 7-8 races\, keep an eye on our social media pages for confirmation of start times. \nGoulburn Race Club provides the perfect atmosphere to watch the best thoroughbred racing in country New South Wales. \nRace times and dates are subject to change so please contact Goulburn Race Club to confirm each date & race time if you are looking to attend.
URL:https://www.goulburnaustralia.com.au/event/goulburn-thoroughbred-racing/2026-07-17/
CATEGORIES:Sporting Events
ATTACH;FMTTYPE=image/jpeg:https://www.goulburnaustralia.com.au/wp-content/uploads/2023/02/BRADLEYS-Vee-Eight-5.jpg
END:VEVENT
BEGIN:VEVENT
DTSTART;TZID=Australia/Sydney:20260803T120000
DTEND;TZID=Australia/Sydney:20260803T170000
DTSTAMP:20260425T222005
CREATED:20220525T000727Z
LAST-MODIFIED:20260424T011007Z
UID:10010733-1785758400-1785776400@www.goulburnaustralia.com.au
SUMMARY:Goulburn Thoroughbred Racing
DESCRIPTION:Goulburn Race Club races 20 times throughout the year. Each day features full TAB\, bar & canteen facilities\, as well as onsite bookmakers. \nThe race program consists of 7-8 races\, keep an eye on our social media pages for confirmation of start times. \nGoulburn Race Club provides the perfect atmosphere to watch the best thoroughbred racing in country New South Wales. \nRace times and dates are subject to change so please contact Goulburn Race Club to confirm each date & race time if you are looking to attend.
URL:https://www.goulburnaustralia.com.au/event/goulburn-thoroughbred-racing/2026-08-03/
CATEGORIES:Sporting Events
ATTACH;FMTTYPE=image/jpeg:https://www.goulburnaustralia.com.au/wp-content/uploads/2023/02/BRADLEYS-Vee-Eight-5.jpg
END:VEVENT
BEGIN:VEVENT
DTSTART;TZID=Australia/Sydney:20260911T120000
DTEND;TZID=Australia/Sydney:20260911T170000
DTSTAMP:20260425T222005
CREATED:20220525T000727Z
LAST-MODIFIED:20260424T011007Z
UID:10010734-1789128000-1789146000@www.goulburnaustralia.com.au
SUMMARY:Goulburn Thoroughbred Racing
DESCRIPTION:Goulburn Race Club races 20 times throughout the year. Each day features full TAB\, bar & canteen facilities\, as well as onsite bookmakers. \nThe race program consists of 7-8 races\, keep an eye on our social media pages for confirmation of start times. \nGoulburn Race Club provides the perfect atmosphere to watch the best thoroughbred racing in country New South Wales. \nRace times and dates are subject to change so please contact Goulburn Race Club to confirm each date & race time if you are looking to attend.
URL:https://www.goulburnaustralia.com.au/event/goulburn-thoroughbred-racing/2026-09-11/
CATEGORIES:Sporting Events
ATTACH;FMTTYPE=image/jpeg:https://www.goulburnaustralia.com.au/wp-content/uploads/2023/02/BRADLEYS-Vee-Eight-5.jpg
END:VEVENT
BEGIN:VEVENT
DTSTART;TZID=Australia/Sydney:20260924T120000
DTEND;TZID=Australia/Sydney:20260924T170000
DTSTAMP:20260425T222005
CREATED:20220525T000727Z
LAST-MODIFIED:20260424T011007Z
UID:10010735-1790251200-1790269200@www.goulburnaustralia.com.au
SUMMARY:Goulburn Thoroughbred Racing
DESCRIPTION:Goulburn Race Club races 20 times throughout the year. Each day features full TAB\, bar & canteen facilities\, as well as onsite bookmakers. \nThe race program consists of 7-8 races\, keep an eye on our social media pages for confirmation of start times. \nGoulburn Race Club provides the perfect atmosphere to watch the best thoroughbred racing in country New South Wales. \nRace times and dates are subject to change so please contact Goulburn Race Club to confirm each date & race time if you are looking to attend.
URL:https://www.goulburnaustralia.com.au/event/goulburn-thoroughbred-racing/2026-09-24/
CATEGORIES:Sporting Events
ATTACH;FMTTYPE=image/jpeg:https://www.goulburnaustralia.com.au/wp-content/uploads/2023/02/BRADLEYS-Vee-Eight-5.jpg
END:VEVENT
END:VCALENDAR