BEGIN:VCALENDAR
VERSION:2.0
PRODID:-//Goulburn Australia - ECPv6.15.20//NONSGML v1.0//EN
CALSCALE:GREGORIAN
METHOD:PUBLISH
X-WR-CALNAME:Goulburn Australia
X-ORIGINAL-URL:https://www.goulburnaustralia.com.au
X-WR-CALDESC:Events for Goulburn Australia
REFRESH-INTERVAL;VALUE=DURATION:PT1H
X-Robots-Tag:noindex
X-PUBLISHED-TTL:PT1H
BEGIN:VTIMEZONE
TZID:Australia/Sydney
BEGIN:STANDARD
TZOFFSETFROM:+1100
TZOFFSETTO:+1000
TZNAME:AEST
DTSTART:20250405T160000
END:STANDARD
BEGIN:DAYLIGHT
TZOFFSETFROM:+1000
TZOFFSETTO:+1100
TZNAME:AEDT
DTSTART:20251004T160000
END:DAYLIGHT
BEGIN:STANDARD
TZOFFSETFROM:+1100
TZOFFSETTO:+1000
TZNAME:AEST
DTSTART:20260404T160000
END:STANDARD
BEGIN:DAYLIGHT
TZOFFSETFROM:+1000
TZOFFSETTO:+1100
TZNAME:AEDT
DTSTART:20261003T160000
END:DAYLIGHT
BEGIN:STANDARD
TZOFFSETFROM:+1100
TZOFFSETTO:+1000
TZNAME:AEST
DTSTART:20270403T160000
END:STANDARD
BEGIN:DAYLIGHT
TZOFFSETFROM:+1000
TZOFFSETTO:+1100
TZNAME:AEDT
DTSTART:20271002T160000
END:DAYLIGHT
BEGIN:STANDARD
TZOFFSETFROM:+1100
TZOFFSETTO:+1000
TZNAME:AEST
DTSTART:20280401T160000
END:STANDARD
BEGIN:DAYLIGHT
TZOFFSETFROM:+1000
TZOFFSETTO:+1100
TZNAME:AEDT
DTSTART:20280930T160000
END:DAYLIGHT
END:VTIMEZONE
BEGIN:VEVENT
DTSTART;TZID=Australia/Sydney:20260426T100000
DTEND;TZID=Australia/Sydney:20260426T113000
DTSTAMP:20260425T204824
CREATED:20260311T223458Z
LAST-MODIFIED:20260424T001531Z
UID:10010721-1777197600-1777203000@www.goulburnaustralia.com.au
SUMMARY:Cars at the Courthouse
DESCRIPTION:A classic car meet held on the last Sunday of every month on Montague street between the Courthouse and Belmore Park. \nBring the whole family to enjoy our classic Car’s\, play in the park and support the local cafes and businesses. \nWill be held rain\, hail or shine… depending on how game you are with your pride and joy! \nFree! No judging\, just a morning to get the cob webs off and enjoy the cars.
URL:https://www.goulburnaustralia.com.au/event/cars-at-the-courthouse-2-2/2026-04-26/
CATEGORIES:Community Event
ATTACH;FMTTYPE=image/jpeg:https://www.goulburnaustralia.com.au/wp-content/uploads/2022/02/AAF79EC8-E6DF-4559-8E90-C311D9646153.jpeg
END:VEVENT
BEGIN:VEVENT
DTSTART;TZID=Australia/Sydney:20260531T100000
DTEND;TZID=Australia/Sydney:20260531T113000
DTSTAMP:20260425T204824
CREATED:20260311T223458Z
LAST-MODIFIED:20260424T001531Z
UID:10010722-1780221600-1780227000@www.goulburnaustralia.com.au
SUMMARY:Cars at the Courthouse
DESCRIPTION:A classic car meet held on the last Sunday of every month on Montague street between the Courthouse and Belmore Park. \nBring the whole family to enjoy our classic Car’s\, play in the park and support the local cafes and businesses. \nWill be held rain\, hail or shine… depending on how game you are with your pride and joy! \nFree! No judging\, just a morning to get the cob webs off and enjoy the cars.
URL:https://www.goulburnaustralia.com.au/event/cars-at-the-courthouse-2-2/2026-05-31/
CATEGORIES:Community Event
ATTACH;FMTTYPE=image/jpeg:https://www.goulburnaustralia.com.au/wp-content/uploads/2022/02/AAF79EC8-E6DF-4559-8E90-C311D9646153.jpeg
END:VEVENT
BEGIN:VEVENT
DTSTART;TZID=Australia/Sydney:20260628T100000
DTEND;TZID=Australia/Sydney:20260628T113000
DTSTAMP:20260425T204824
CREATED:20260311T223458Z
LAST-MODIFIED:20260424T001531Z
UID:10010723-1782640800-1782646200@www.goulburnaustralia.com.au
SUMMARY:Cars at the Courthouse
DESCRIPTION:A classic car meet held on the last Sunday of every month on Montague street between the Courthouse and Belmore Park. \nBring the whole family to enjoy our classic Car’s\, play in the park and support the local cafes and businesses. \nWill be held rain\, hail or shine… depending on how game you are with your pride and joy! \nFree! No judging\, just a morning to get the cob webs off and enjoy the cars.
URL:https://www.goulburnaustralia.com.au/event/cars-at-the-courthouse-2-2/2026-06-28/
CATEGORIES:Community Event
ATTACH;FMTTYPE=image/jpeg:https://www.goulburnaustralia.com.au/wp-content/uploads/2022/02/AAF79EC8-E6DF-4559-8E90-C311D9646153.jpeg
END:VEVENT
BEGIN:VEVENT
DTSTART;TZID=Australia/Sydney:20260726T100000
DTEND;TZID=Australia/Sydney:20260726T113000
DTSTAMP:20260425T204824
CREATED:20260311T223458Z
LAST-MODIFIED:20260424T001531Z
UID:10010724-1785060000-1785065400@www.goulburnaustralia.com.au
SUMMARY:Cars at the Courthouse
DESCRIPTION:A classic car meet held on the last Sunday of every month on Montague street between the Courthouse and Belmore Park. \nBring the whole family to enjoy our classic Car’s\, play in the park and support the local cafes and businesses. \nWill be held rain\, hail or shine… depending on how game you are with your pride and joy! \nFree! No judging\, just a morning to get the cob webs off and enjoy the cars.
URL:https://www.goulburnaustralia.com.au/event/cars-at-the-courthouse-2-2/2026-07-26/
CATEGORIES:Community Event
ATTACH;FMTTYPE=image/jpeg:https://www.goulburnaustralia.com.au/wp-content/uploads/2022/02/AAF79EC8-E6DF-4559-8E90-C311D9646153.jpeg
END:VEVENT
BEGIN:VEVENT
DTSTART;TZID=Australia/Sydney:20260830T100000
DTEND;TZID=Australia/Sydney:20260830T113000
DTSTAMP:20260425T204824
CREATED:20260311T223458Z
LAST-MODIFIED:20260424T001531Z
UID:10010725-1788084000-1788089400@www.goulburnaustralia.com.au
SUMMARY:Cars at the Courthouse
DESCRIPTION:A classic car meet held on the last Sunday of every month on Montague street between the Courthouse and Belmore Park. \nBring the whole family to enjoy our classic Car’s\, play in the park and support the local cafes and businesses. \nWill be held rain\, hail or shine… depending on how game you are with your pride and joy! \nFree! No judging\, just a morning to get the cob webs off and enjoy the cars.
URL:https://www.goulburnaustralia.com.au/event/cars-at-the-courthouse-2-2/2026-08-30/
CATEGORIES:Community Event
ATTACH;FMTTYPE=image/jpeg:https://www.goulburnaustralia.com.au/wp-content/uploads/2022/02/AAF79EC8-E6DF-4559-8E90-C311D9646153.jpeg
END:VEVENT
BEGIN:VEVENT
DTSTART;TZID=Australia/Sydney:20260927T100000
DTEND;TZID=Australia/Sydney:20260927T113000
DTSTAMP:20260425T204824
CREATED:20260311T223458Z
LAST-MODIFIED:20260424T001531Z
UID:10010726-1790503200-1790508600@www.goulburnaustralia.com.au
SUMMARY:Cars at the Courthouse
DESCRIPTION:A classic car meet held on the last Sunday of every month on Montague street between the Courthouse and Belmore Park. \nBring the whole family to enjoy our classic Car’s\, play in the park and support the local cafes and businesses. \nWill be held rain\, hail or shine… depending on how game you are with your pride and joy! \nFree! No judging\, just a morning to get the cob webs off and enjoy the cars.
URL:https://www.goulburnaustralia.com.au/event/cars-at-the-courthouse-2-2/2026-09-27/
CATEGORIES:Community Event
ATTACH;FMTTYPE=image/jpeg:https://www.goulburnaustralia.com.au/wp-content/uploads/2022/02/AAF79EC8-E6DF-4559-8E90-C311D9646153.jpeg
END:VEVENT
BEGIN:VEVENT
DTSTART;TZID=Australia/Sydney:20261025T100000
DTEND;TZID=Australia/Sydney:20261025T113000
DTSTAMP:20260425T204824
CREATED:20260311T223458Z
LAST-MODIFIED:20260424T001531Z
UID:10010727-1792922400-1792927800@www.goulburnaustralia.com.au
SUMMARY:Cars at the Courthouse
DESCRIPTION:A classic car meet held on the last Sunday of every month on Montague street between the Courthouse and Belmore Park. \nBring the whole family to enjoy our classic Car’s\, play in the park and support the local cafes and businesses. \nWill be held rain\, hail or shine… depending on how game you are with your pride and joy! \nFree! No judging\, just a morning to get the cob webs off and enjoy the cars.
URL:https://www.goulburnaustralia.com.au/event/cars-at-the-courthouse-2-2/2026-10-25/
CATEGORIES:Community Event
ATTACH;FMTTYPE=image/jpeg:https://www.goulburnaustralia.com.au/wp-content/uploads/2022/02/AAF79EC8-E6DF-4559-8E90-C311D9646153.jpeg
END:VEVENT
BEGIN:VEVENT
DTSTART;TZID=Australia/Sydney:20261129T100000
DTEND;TZID=Australia/Sydney:20261129T113000
DTSTAMP:20260425T204824
CREATED:20260311T223458Z
LAST-MODIFIED:20260424T001531Z
UID:10010728-1795946400-1795951800@www.goulburnaustralia.com.au
SUMMARY:Cars at the Courthouse
DESCRIPTION:A classic car meet held on the last Sunday of every month on Montague street between the Courthouse and Belmore Park. \nBring the whole family to enjoy our classic Car’s\, play in the park and support the local cafes and businesses. \nWill be held rain\, hail or shine… depending on how game you are with your pride and joy! \nFree! No judging\, just a morning to get the cob webs off and enjoy the cars.
URL:https://www.goulburnaustralia.com.au/event/cars-at-the-courthouse-2-2/2026-11-29/
CATEGORIES:Community Event
ATTACH;FMTTYPE=image/jpeg:https://www.goulburnaustralia.com.au/wp-content/uploads/2022/02/AAF79EC8-E6DF-4559-8E90-C311D9646153.jpeg
END:VEVENT
BEGIN:VEVENT
DTSTART;TZID=Australia/Sydney:20261227T100000
DTEND;TZID=Australia/Sydney:20261227T113000
DTSTAMP:20260425T204824
CREATED:20260311T223458Z
LAST-MODIFIED:20260424T001531Z
UID:10010729-1798365600-1798371000@www.goulburnaustralia.com.au
SUMMARY:Cars at the Courthouse
DESCRIPTION:A classic car meet held on the last Sunday of every month on Montague street between the Courthouse and Belmore Park. \nBring the whole family to enjoy our classic Car’s\, play in the park and support the local cafes and businesses. \nWill be held rain\, hail or shine… depending on how game you are with your pride and joy! \nFree! No judging\, just a morning to get the cob webs off and enjoy the cars.
URL:https://www.goulburnaustralia.com.au/event/cars-at-the-courthouse-2-2/2026-12-27/
CATEGORIES:Community Event
ATTACH;FMTTYPE=image/jpeg:https://www.goulburnaustralia.com.au/wp-content/uploads/2022/02/AAF79EC8-E6DF-4559-8E90-C311D9646153.jpeg
END:VEVENT
BEGIN:VEVENT
DTSTART;TZID=Australia/Sydney:20270131T100000
DTEND;TZID=Australia/Sydney:20270131T113000
DTSTAMP:20260425T204824
CREATED:20260311T223458Z
LAST-MODIFIED:20260424T001531Z
UID:10010730-1801389600-1801395000@www.goulburnaustralia.com.au
SUMMARY:Cars at the Courthouse
DESCRIPTION:A classic car meet held on the last Sunday of every month on Montague street between the Courthouse and Belmore Park. \nBring the whole family to enjoy our classic Car’s\, play in the park and support the local cafes and businesses. \nWill be held rain\, hail or shine… depending on how game you are with your pride and joy! \nFree! No judging\, just a morning to get the cob webs off and enjoy the cars.
URL:https://www.goulburnaustralia.com.au/event/cars-at-the-courthouse-2-2/2027-01-31/
CATEGORIES:Community Event
ATTACH;FMTTYPE=image/jpeg:https://www.goulburnaustralia.com.au/wp-content/uploads/2022/02/AAF79EC8-E6DF-4559-8E90-C311D9646153.jpeg
END:VEVENT
END:VCALENDAR