BEGIN:VCALENDAR
VERSION:2.0
PRODID:-//Goulburn Australia - ECPv6.15.20//NONSGML v1.0//EN
CALSCALE:GREGORIAN
METHOD:PUBLISH
X-ORIGINAL-URL:https://www.goulburnaustralia.com.au
X-WR-CALDESC:Events for Goulburn Australia
REFRESH-INTERVAL;VALUE=DURATION:PT1H
X-Robots-Tag:noindex
X-PUBLISHED-TTL:PT1H
BEGIN:VTIMEZONE
TZID:Australia/Sydney
BEGIN:STANDARD
TZOFFSETFROM:+1100
TZOFFSETTO:+1000
TZNAME:AEST
DTSTART:20230401T160000
END:STANDARD
BEGIN:DAYLIGHT
TZOFFSETFROM:+1000
TZOFFSETTO:+1100
TZNAME:AEDT
DTSTART:20230930T160000
END:DAYLIGHT
BEGIN:STANDARD
TZOFFSETFROM:+1100
TZOFFSETTO:+1000
TZNAME:AEST
DTSTART:20240406T160000
END:STANDARD
BEGIN:DAYLIGHT
TZOFFSETFROM:+1000
TZOFFSETTO:+1100
TZNAME:AEDT
DTSTART:20241005T160000
END:DAYLIGHT
BEGIN:STANDARD
TZOFFSETFROM:+1100
TZOFFSETTO:+1000
TZNAME:AEST
DTSTART:20250405T160000
END:STANDARD
BEGIN:DAYLIGHT
TZOFFSETFROM:+1000
TZOFFSETTO:+1100
TZNAME:AEDT
DTSTART:20251004T160000
END:DAYLIGHT
BEGIN:STANDARD
TZOFFSETFROM:+1100
TZOFFSETTO:+1000
TZNAME:AEST
DTSTART:20260404T160000
END:STANDARD
BEGIN:DAYLIGHT
TZOFFSETFROM:+1000
TZOFFSETTO:+1100
TZNAME:AEDT
DTSTART:20261003T160000
END:DAYLIGHT
END:VTIMEZONE
BEGIN:VEVENT
DTSTART;TZID=Australia/Sydney:20251104T100000
DTEND;TZID=Australia/Sydney:20251104T104500
DTSTAMP:20260425T204704
CREATED:20250902T034756Z
LAST-MODIFIED:20250902T034756Z
UID:10009529-1762250400-1762253100@www.goulburnaustralia.com.au
SUMMARY:Art Teenies
DESCRIPTION:Art Teenies is a playful education session for you and your little one at Goulburn Regional Art Gallery focused on fostering creativity and developing life long problem solving and fine motor skills. Each week includes a story time\, a song or movement activity\, and an artmaking task in the Education Studio. \nWhat: Join us for free fun sessions of art with your little ones!\nWhen: Tuesdays 9th September until 4th November\nTime: 10am – 10:45am\nCost: Free \nFor participants 5 years and under\, and their carers. Siblings are also welcome. Please book for all children and adults attending. \nImage credit: Goulburn Regional Art Gallery. Installation View Dionisia Salas\, ‘Of Mouth and Mind’\, 2024-2025.
URL:https://www.goulburnaustralia.com.au/event/art-teenies/2025-11-04/
CATEGORIES:Classes, Lessons, Workshops and Talks
ATTACH;FMTTYPE=image/jpeg:https://www.goulburnaustralia.com.au/wp-content/uploads/2025/09/Art-teenies_-Luke-Chiswell_-14-01-25-4-Copy-scaled.jpg
END:VEVENT
BEGIN:VEVENT
DTSTART;TZID=Australia/Sydney:20250907T080000
DTEND;TZID=Australia/Sydney:20250907T170000
DTSTAMP:20260425T204704
CREATED:20250114T214801Z
LAST-MODIFIED:20250114T214801Z
UID:10007556-1757232000-1757264400@www.goulburnaustralia.com.au
SUMMARY:Caravan Safety Check and Weighing Day
DESCRIPTION:Goulburn Mulwaree Council\, along with Sutton Road Training Centre\, and Transport for NSW are inviting you to a FREE Caravan Safety Check. \nEnsure your vehicle and trailer weights are correct and balanced to ensure safe and enjoyable travel. \nA Combination Weight Summary report is provided by Sutton Road Training Centre after the day\, and tips are provided on the day for drivers regarding how to pack their van and vehicle if they are over weight. \nAn appointment time of approximately 45 mins will be allocated to participants on booking. Bookings are essential as spots are limited. \nTo book contact Council’s Road Safety Officer on 4823 4815 OR amanda.brown@goulburn.nsw.gov.au
URL:https://www.goulburnaustralia.com.au/event/caravan-safety-check-and-weighing-day/2025-09-07/
CATEGORIES:Community Event
ATTACH;FMTTYPE=image/jpeg:https://www.goulburnaustralia.com.au/wp-content/uploads/2025/01/Caravan-Weighing-Day-pic.jpg
END:VEVENT
BEGIN:VEVENT
DTSTART;TZID=Australia/Sydney:20250625T103000
DTEND;TZID=Australia/Sydney:20250625T130000
DTSTAMP:20260425T204704
CREATED:20250303T235150Z
LAST-MODIFIED:20250303T235150Z
UID:10008016-1750847400-1750856400@www.goulburnaustralia.com.au
SUMMARY:Tech Tutorials
DESCRIPTION:Come and join our small group tech tutorial and improve your digital literacy skills. \nKatharine\, our NBN ambassador\, will guide you through AI – what it is and how to navigate this evolving technological landscape. \nAttendees will also learn about the Internet of Things – how to select\, install and use smart devices in the home to make life more manageable and enjoyable. \nIf you’d like to learn more about digital literacy\, pick up a copy of our Technology Training booklet for a guide to our other tech help sessions.
URL:https://www.goulburnaustralia.com.au/event/tech-tutorials/2025-06-25/
CATEGORIES:Classes, Lessons, Workshops and Talks,Community Event
ATTACH;FMTTYPE=image/png:https://www.goulburnaustralia.com.au/wp-content/uploads/2025/03/3.png
END:VEVENT
BEGIN:VEVENT
DTSTART;TZID=Australia/Sydney:20250625T100000
DTEND;TZID=Australia/Sydney:20250625T120000
DTSTAMP:20260425T204704
CREATED:20250307T052239Z
LAST-MODIFIED:20250319T034318Z
UID:10008087-1750845600-1750852800@www.goulburnaustralia.com.au
SUMMARY:Morning Melodies with Jamie Agius
DESCRIPTION:Join us for a delightful morning of live music\, delicious coffee\, and good company on the last Wednesday of every month at the Soldiers in the Lounge on Market. \nOur Morning Melodies series offers a perfect way to kick-start your day with soothing tunes and a relaxing atmosphere with popular local artist Jamie Agius. \nWhether you’re a local or just visiting\, it’s the ideal spot to unwind and enjoy the sounds of a talented local performer. \nThis is a free event.
URL:https://www.goulburnaustralia.com.au/event/morning-melodies-with-jamie-agius/2025-06-25/
CATEGORIES:Concert or Performance
ATTACH;FMTTYPE=image/jpeg:https://www.goulburnaustralia.com.au/wp-content/uploads/2025/03/Jaimie-Agius-Morning-Melodies_March2025-A4-Landscape-Goulburn-Soldiers-Club.jpg
END:VEVENT
BEGIN:VEVENT
DTSTART;TZID=Australia/Sydney:20241130T090000
DTEND;TZID=Australia/Sydney:20241130T103000
DTSTAMP:20260425T204704
CREATED:20221103T230149Z
LAST-MODIFIED:20251120T040839Z
UID:10000329-1732957200-1732962600@www.goulburnaustralia.com.au
SUMMARY:Goulburn Christmas Motorcycle Toy Run
DESCRIPTION:The annual Christmas Toy Run is on again this year and they are hoping to make it bigger and better than ever! This year it’s starting at a new location – The Goulburn Railway Bowling Club \nMeet at the Bowlo at 9am for a 10am departure. Everyone is invited to participate in any way that suits – whether that is to donate a present\, come along to watch the bikes on the day or go on the ride.  \nThe purpose of the toy run is to support underprivileged Goulburn Family Support Service who provide support to families and children in the Goulburn community. \nParticipating in the toy run will make the world of difference to a child or young person in your community this Christmas – so come along and spread a little joy.
URL:https://www.goulburnaustralia.com.au/event/goulb-urn-christmas-motorcycle-toy-run/
CATEGORIES:Community Event
ATTACH;FMTTYPE=image/jpeg:https://www.goulburnaustralia.com.au/wp-content/uploads/2022/11/564060510_805828032084256_1558237442625435285_n.jpg
END:VEVENT
END:VCALENDAR